BEGIN:VCALENDAR
VERSION:2.0
PRODID:-//Little Walter's - ECPv6.15.20//NONSGML v1.0//EN
CALSCALE:GREGORIAN
METHOD:PUBLISH
X-ORIGINAL-URL:https://littlewaltersphilly.com
X-WR-CALDESC:Events for Little Walter's
REFRESH-INTERVAL;VALUE=DURATION:PT1H
X-Robots-Tag:noindex
X-PUBLISHED-TTL:PT1H
BEGIN:VTIMEZONE
TZID:UTC
BEGIN:STANDARD
TZOFFSETFROM:+0000
TZOFFSETTO:+0000
TZNAME:UTC
DTSTART:20230101T000000
END:STANDARD
END:VTIMEZONE
BEGIN:VEVENT
DTSTART;TZID=UTC:20250630T180000
DTEND;TZID=UTC:20250630T210000
DTSTAMP:20260421T124012
CREATED:20250601T210558Z
LAST-MODIFIED:20250612T213421Z
UID:371-1751306400-1751317200@littlewaltersphilly.com
SUMMARY:1 Year Anniversary Pierogi Dinner
DESCRIPTION:Join us for a special one-night dinner featuring a Pierogi Tasting Menu. \nReserve \nMenu
URL:https://littlewaltersphilly.com/event/1-year-anniversary-pierogi-dinner/
END:VEVENT
BEGIN:VEVENT
DTSTART;TZID=UTC:20250626T180000
DTEND;TZID=UTC:20250626T230000
DTSTAMP:20260421T124012
CREATED:20250601T210033Z
LAST-MODIFIED:20250612T213325Z
UID:367-1750960800-1750978800@littlewaltersphilly.com
SUMMARY:Little Walters One Year Anniversary Party
DESCRIPTION:Little Walters First Anniversary Party at Little Walter’s on June 26\, 2025 at 6:00 PM (Eastern Time). \nReseve  \nView Menu
URL:https://littlewaltersphilly.com/event/little-walters-one-year-anniversary-party/
END:VEVENT
BEGIN:VEVENT
DTSTART;VALUE=DATE:20241231
DTEND;VALUE=DATE:20250101
DTSTAMP:20260421T124012
CREATED:20241206T032812Z
LAST-MODIFIED:20241206T032812Z
UID:270-1735603200-1735689599@littlewaltersphilly.com
SUMMARY:NYE Dinner
DESCRIPTION:5p Seating\nhttps://resy.com/cities/philadelphia-pa/venues/little-walters/events/nye-pierogi-dinner-2024-12-31?date=2024-12-03&seats=2\n\n8:30p Seating\nhttps://resy.com/cities/philadelphia-pa/venues/little-walters/events/nye-pierogi-dinner-8-30-p-seating-2024-12-31?date=2024-12-03&seats=2
URL:https://littlewaltersphilly.com/event/nye-dinner/
LOCATION:Little Walters\, 2049 E Hagert St\, Philadelphia\, PA\, 19125\, United States
END:VEVENT
BEGIN:VEVENT
DTSTART;VALUE=DATE:20241228
DTEND;VALUE=DATE:20241229
DTSTAMP:20260421T124012
CREATED:20241206T032440Z
LAST-MODIFIED:20241206T032440Z
UID:264-1735344000-1735430399@littlewaltersphilly.com
SUMMARY:Golonka Dinner
DESCRIPTION:12.28@5:30p\nhttps://resy.com/cities/philadelphia-pa/venues/little-walters/events/golonka-dinner-5-30-p-seating-2024-12-28?date=2024-11-26&seats=1\n\n12.28@8:30p\nhttps://resy.com/cities/philadelphia-pa/venues/little-walters/events/golonka-dinner-8-30-p-seating-2024-12-28?date=2024-11-26&seats=1
URL:https://littlewaltersphilly.com/event/golonka-dinner-3/
LOCATION:Little Walters\, 2049 E Hagert St\, Philadelphia\, PA\, 19125\, United States
END:VEVENT
BEGIN:VEVENT
DTSTART;VALUE=DATE:20241223
DTEND;VALUE=DATE:20241224
DTSTAMP:20260421T124012
CREATED:20241206T032634Z
LAST-MODIFIED:20241206T032704Z
UID:266-1734912000-1734998399@littlewaltersphilly.com
SUMMARY:Wilgilia Dinner
DESCRIPTION:6pm \nhttps://resy.com/cities/philadelphia-pa/venues/little-walters/events/wilgilia-dinner-2024-12-23?date=2024-12-03&seats=2
URL:https://littlewaltersphilly.com/event/wilgilia-dinner/
LOCATION:Little Walters\, 2049 E Hagert St\, Philadelphia\, PA\, 19125\, United States
END:VEVENT
BEGIN:VEVENT
DTSTART;VALUE=DATE:20241221
DTEND;VALUE=DATE:20241222
DTSTAMP:20260421T124012
CREATED:20241206T032349Z
LAST-MODIFIED:20241206T032349Z
UID:262-1734739200-1734825599@littlewaltersphilly.com
SUMMARY:Golonka Dinner
DESCRIPTION:12.21@5:30p\nhttps://resy.com/cities/philadelphia-pa/venues/little-walters/events/golonka-dinner-5-30-p-seating-2024-12-21?date=2024-11-26&seats=1\n\n12.21@8:30p\nhttps://resy.com/cities/philadelphia-pa/venues/little-walters/events/golonka-dinner-8-30-p-seating-2024-12-21?date=2024-11-26&seats=1
URL:https://littlewaltersphilly.com/event/golonka-dinner-2/
LOCATION:Little Walters\, 2049 E Hagert St\, Philadelphia\, PA\, 19125\, United States
END:VEVENT
BEGIN:VEVENT
DTSTART;VALUE=DATE:20241214
DTEND;VALUE=DATE:20241215
DTSTAMP:20260421T124012
CREATED:20241206T025838Z
LAST-MODIFIED:20241206T032310Z
UID:243-1734134400-1734220799@littlewaltersphilly.com
SUMMARY:Golonka Dinner
DESCRIPTION:12.14@5:30p\nhttps://resy.com/cities/philadelphia-pa/venues/little-walters/events/golonka-dinner-5-30-p-seating-2024-12-14?date=2024-11-26&seats=2\n\n \n\n\n12.14@8:30p\nhttps://resy.com/cities/philadelphia-pa/venues/little-walters/events/golonka-dinner-8-30-p-seating-2024-12-14?date=2024-11-26&seats=1
URL:https://littlewaltersphilly.com/event/golonka-dinner/
LOCATION:Little Walters\, 2049 E Hagert St\, Philadelphia\, PA\, 19125\, United States
END:VEVENT
END:VCALENDAR